BEGIN:VCALENDAR
VERSION:2.0
PRODID:-//wp-events-plugin.com//7.2.3.1//EN
TZID:America/New_York
X-WR-TIMEZONE:America/New_York
BEGIN:VEVENT
UID:194@pgislanders.org
DTSTART;TZID=America/New_York:20260213T000000
DTEND;TZID=America/New_York:20260216T000000
DTSTAMP:20260202T023747Z
URL:https://pgislanders.org/events/valentines-day-cruise-to-cabbage-key-an
 d-or-useppa/
SUMMARY:Valentine's Cruise to Cabbage Key\, Useppa\, and Pelican Bay
DESCRIPTION:Valentine's Cruise\nFebruary 13-16\, 2026\n\nJoin your cruise c
 aptain Robin Herrick on the latest PGIslanders adventure!\nWe'll depart fr
 om Punta Gorda Isles on Friday\, February 13\n(remember\, it's only a bad 
 luck day if you're a Templar and 13 is the Herricks' lucky number!) and 
 anchor out at Pelican Bay.\nSaturday morning Kathy Weber will be hosting a
  kite flying contest with categories and trophies!\nSaturday evening we ha
 ve reserved a table at the Cabbage Key restaurant\,\nso registering is *cr
 ucial* so I can give them an accurate-ish head count.\nIf you'd like to ju
 st attend the dinner please register anyway\nand let me know you won't be 
 anchoring out.\nSunday we'll head over to Useppa to anchor if the wind and
  weather agrees\,\nwhere we'll continue our exploration of the area.\nThe 
 Herricks will host an "anything but chocolate" dessert competition/party\n
 onboard Abracadabra Sunday afternoon.\nMonday will be a travel day home 
 to Punta Gorda Isles.\nWhen you click on the link below\, it will take you
  to the PGICA page where you'll need to click "member login" in the upper 
 right corner. This should direct you to the Valentine's Cruise registratio
 n directly. If it doesn't\, click on the email link again and you'll be se
 nt right to it as you're now logged in.\nClick HERE to register for the Va
 lentine's Cruise to Cabbage Key\, Useppa and Pelican Bay 
ATTACH;FMTTYPE=image/jpeg:https://pgislanders.org/wp-content/uploads/2023/
 01/Cabbage.jpg
CATEGORIES:Cruise
END:VEVENT
BEGIN:VTIMEZONE
TZID:America/New_York
X-LIC-LOCATION:America/New_York
BEGIN:STANDARD
DTSTART:20251102T010000
TZOFFSETFROM:-0400
TZOFFSETTO:-0500
TZNAME:EST
END:STANDARD
END:VTIMEZONE
END:VCALENDAR