BEGIN:VCALENDAR
VERSION:2.0
PRODID:-//wp-events-plugin.com//7.2.3.1//EN
TZID:America/New_York
X-WR-TIMEZONE:America/New_York
BEGIN:VEVENT
UID:183@pgislanders.org
DTSTART;TZID=America/New_York:20250927T140000
DTEND;TZID=America/New_York:20250927T163000
DTSTAMP:20250925T202020Z
URL:https://pgislanders.org/events/sunset-lake-raft-up/
SUMMARY:Sunset Lake Raft Up
DESCRIPTION:Cruise to \nSunset Lake\nThis Saturday\nSeptember 27\, 2025\nSp
 ecial Ceremony Scheduled\nRobin &amp\; Christian Herrick will perform a bo
 at renaming ceremony\nfor their new power catamaran\, Abracadabra\, at the
  raft-up on Saturday.\nJoin us and welcome Robin &amp\; Christian to the 
 “dark side” of powerboating!\n&nbsp\;\n\nIt’s a great time to get to
 gether for a PGIslanders raft-up.  We’ll get together Saturday\, Septem
 ber 27 from 2:00 pm to 4:30pm.\n\nDave and Debbie Porter's Windswept will 
 serve as anchor boat. Mark Janus and Jeanette Grey will be there on Mark
 ’s Key West center console\, Surface Tension\, too.\n\nWindswept and Su
 rface Tension will be in place by 1:45 pm and will have fenders ready. Pl
 an on arriving then or later. Bring your own beverages and an appetizer or
  dessert to share.\n\nIf you haven’t done a raft-up before\, or it’s b
 een a while\, just make sure you have lines and fenders for at least one s
 ide of your vessel. We’ll have people on hand to assist in coming alongs
 ide and securing your boat.\n\nCome join the fun!\n\nMark Janus\nCruise Ca
 ptain\n\n&nbsp\;\n\n
ATTACH;FMTTYPE=image/jpeg:https://pgislanders.org/wp-content/uploads/2023/
 04/Raft-Up.png
CATEGORIES:Cruise
END:VEVENT
BEGIN:VTIMEZONE
TZID:America/New_York
X-LIC-LOCATION:America/New_York
BEGIN:DAYLIGHT
DTSTART:20250309T030000
TZOFFSETFROM:-0500
TZOFFSETTO:-0400
TZNAME:EDT
END:DAYLIGHT
END:VTIMEZONE
END:VCALENDAR