BEGIN:VCALENDAR
VERSION:2.0
PRODID:-//wp-events-plugin.com//7.2.3.1//EN
TZID:America/New_York
X-WR-TIMEZONE:America/New_York
BEGIN:VEVENT
UID:209@pgislanders.org
DTSTART;TZID=America/New_York:20260317T120000
DTEND;TZID=America/New_York:20260317T160000
DTSTAMP:20260109T011520Z
URL:https://pgislanders.org/events/spring-training-baseball-2/
SUMMARY:Spring Training Baseball
DESCRIPTION:Spring Training Baseball\nNY Yankees at Tampa Bay Rays\nTuesday
 \, March 17\, 2026\nCharlotte Sports Park\n&nbsp\;\n\n\n\n\n\nTake me out 
 to the ball game! Join your fellow PGIslanders for a Spring Training baseb
 all game between the Yankees and the Rays. First pitch is 1:05 pm at Charl
 otte Sports Park in Port Charlotte. Located at 2300 El Jobean Rd (Rt 776)\
 , Charlotte Sports Park is the Rays Spring Training facility.\n\nWe hope t
 o secure tickets in the same area as last year – Section 202\, and have 
 secured group pricing for the outing at only $23.00 per ticket. Section 20
 2 will be in the shade for the entire game.\n\nSign up with Mark by emaili
 ng mjanus449@gmail.com. Include your name\, email address\, cell phone num
 ber\, and number of tickets you want. Tickets are digital\, and you will n
 eed to download the MLB app on your phone so Mark can transfer your ticket
 s to you. Payment should be made directly to Mark by cash or check payable
  to Mark Janus. No cash apps\, please.\n\nDon’t delay! Cutoff for ticket
 s is Tuesday\, January 20.\n\nPlay Ball!\n\nMark Janus\nEvent Coordinator\
 n\n\n\n\n
ATTACH;FMTTYPE=image/jpeg:https://pgislanders.org/wp-content/uploads/2025/
 02/Spring-Training.jpg
CATEGORIES:Social
END:VEVENT
BEGIN:VTIMEZONE
TZID:America/New_York
X-LIC-LOCATION:America/New_York
BEGIN:DAYLIGHT
DTSTART:20260308T030000
TZOFFSETFROM:-0500
TZOFFSETTO:-0400
TZNAME:EDT
END:DAYLIGHT
END:VTIMEZONE
END:VCALENDAR