BEGIN:VCALENDAR
VERSION:2.0
PRODID:-//wp-events-plugin.com//7.2.3.1//EN
TZID:America/New_York
X-WR-TIMEZONE:America/New_York
BEGIN:VEVENT
UID:176@pgislanders.org
DTSTART;TZID=America/New_York:20250630T090000
DTEND;TZID=America/New_York:20250630T180000
DTSTAMP:20250529T194743Z
URL:https://pgislanders.org/events/seminole-casino-bus-trip/
SUMMARY:Seminole Casino Bus Trip
DESCRIPTION:Courtesy Announcement for PGICA Activity\n&nbsp\;\n\nThe PGICA 
 Newcomers Club has organized a bus trip to the Seminole Casino on June 30\
 , and the Newcomers have invited the PGIslanders to join them.\n\nFor full
  details see\, https://www.pgica.org/content.aspx?page_id=4091&amp\;club_i
 d=799073&amp\;item_id=2602189\n\nThis event is not sponsored by the PGIsla
 nders\, but the PGIslanders Social Committee has approved this notice.
CATEGORIES:Social
END:VEVENT
BEGIN:VTIMEZONE
TZID:America/New_York
X-LIC-LOCATION:America/New_York
BEGIN:DAYLIGHT
DTSTART:20250309T030000
TZOFFSETFROM:-0500
TZOFFSETTO:-0400
TZNAME:EDT
END:DAYLIGHT
END:VTIMEZONE
END:VCALENDAR