BEGIN:VCALENDAR
VERSION:2.0
PRODID:-//wp-events-plugin.com//7.2.3.1//EN
TZID:America/New_York
X-WR-TIMEZONE:America/New_York
BEGIN:VEVENT
UID:185@pgislanders.org
DTSTART;TZID=America/New_York:20251029T174500
DTEND;TZID=America/New_York:20251029T190000
DTSTAMP:20251002T202809Z
URL:https://pgislanders.org/events/picnic-dinner-at-ponce-park/
SUMMARY:PGIslanders Sunset Hour
DESCRIPTION:PGIslanders Sunset Hour\nOctober 29\, 2025\n&nbsp\;\n\nAnother 
 way to spend time with your fellow PGIslanders!\n\nJoin us for Sunset at P
 once de Leon Park\nWednesday\, October 29\, 2025\nArrive about 5:45 pm and
  stay for the sunset\nSunset on October 29 is 6:47 pm\n\nOptional\nBring a
  chair or beach blanket\,\nyour own beverage\, and a snack to share\n\nMau
 reen Hebert\n\nOrganizer\n\n&nbsp\;
ATTACH;FMTTYPE=image/jpeg:https://pgislanders.org/wp-content/uploads/2025/
 09/Ponce-Park-sign.jpg
CATEGORIES:Social
END:VEVENT
BEGIN:VTIMEZONE
TZID:America/New_York
X-LIC-LOCATION:America/New_York
BEGIN:DAYLIGHT
DTSTART:20250309T030000
TZOFFSETFROM:-0500
TZOFFSETTO:-0400
TZNAME:EDT
END:DAYLIGHT
END:VTIMEZONE
END:VCALENDAR