BEGIN:VCALENDAR
VERSION:2.0
PRODID:-//wp-events-plugin.com//7.2.3.1//EN
TZID:America/New_York
X-WR-TIMEZONE:America/New_York
BEGIN:VEVENT
UID:167@pgislanders.org
DTSTART;TZID=America/New_York:20251210T160000
DTEND;TZID=America/New_York:20251210T210000
DTSTAMP:20251123T163419Z
URL:https://pgislanders.org/events/pgislanders-holiday-dinner-dance/
SUMMARY:PGIslanders Holiday Dinner Dance
DESCRIPTION:Social Event\nPGIslanders Holiday Dinner Dance\nat the\nIsles Y
 acht Club\nWednesday\, December 10\, 2025\n&nbsp\;\nCocktails 5:30 pm to 6
 :30 pm\nCash Bar (No Credit Cards)\nFollowed by Dinner &amp\; Dancing\nFea
 turing Music by\nRisk &amp\; Romance\n$75 per person\nMenu\nCaesar Salad\n
 Bread &amp\; Butter\nChoice of Entree:\n1) Herb Crusted Cod\n2) Grilled Fl
 ank Steak\n3) Citrus &amp\; Herb Marinated Chicken\nCoffee &amp\; Tea\nNY 
 Style Cheesecake with Fruit Topping\nTable arrangement: Six to Eight (6-8)
  people per round table\nIf you wish to sit with specific people\, let us 
 know when you register\n\nReservations and payment can be made on the PGIC
 A website here. You must login to access the page. Registration deadline i
 s Monday\, December 1\, 2025. When you register online\, you must select w
 hat entree (fish\, beef\, or chicken) you prefer. You will be able to indi
 cate if you have food allergies at that point. Optionally\, you will be ab
 le to indicate your table seating arrangement preference.\n\nNearly forty 
 PGIslanders have signed up already. If you wish to see the list of attende
 es\, make sure you’re signed into the PGICA and click here or click on t
 he icon on the upper right corner of the announcement page.\n\nFor those t
 hat haven’t used Club Express on the PGICA website before\, or if it’s
  been a while\, you must be logged in to the PGICA before you can access t
 he registration page or the links in this email. If you click the links an
 d they do not bring you to the expected page\, please log in by clicking t
 he Member Login button on the web page. After you sign into the PGICA\, cl
 ick on the links in this email again and the proper page will open. If you
  have any issues or questions\, contact Maureen or Sandy.\n\nWe hope all o
 f you can attend!\n\nMaureen Hebert &amp\; Sandy Graan\n\nHoliday Party Co
 mmittee\n\n&nbsp\;
ATTACH;FMTTYPE=image/jpeg:https://pgislanders.org/wp-content/uploads/2025/
 04/Holiday-Party-2025.jpg
CATEGORIES:Social
END:VEVENT
BEGIN:VTIMEZONE
TZID:America/New_York
X-LIC-LOCATION:America/New_York
BEGIN:STANDARD
DTSTART:20251102T010000
TZOFFSETFROM:-0400
TZOFFSETTO:-0500
TZNAME:EST
END:STANDARD
END:VTIMEZONE
END:VCALENDAR