BEGIN:VCALENDAR
VERSION:2.0
PRODID:-//wp-events-plugin.com//7.2.3.1//EN
TZID:America/New_York
X-WR-TIMEZONE:America/New_York
BEGIN:VEVENT
UID:210@pgislanders.org
DTSTART;TZID=America/New_York:20260209T130000
DTEND;TZID=America/New_York:20260209T140000
DTSTAMP:20260108T160958Z
URL:https://pgislanders.org/events/pgislanders-book-group-19/
SUMMARY:PGIslanders Book Group
DESCRIPTION:Social Event\n\nPGIslanders Book Group\nTheo of Golden\nMonday\
 , February 9\, 2026\n&nbsp\;\n\nFebruary’s book group read is Theo of Go
 lden by Allen Levi. Here’s a description:\n\n\n\nAvailable in Kindle for
 mat\, audiobook\, and paperback\, you can purchase the book on Amazon. Cha
 rlotte County Library’s copies are currently checked out or on hold.\n\n
 This month’s host is Lou Anne Ford. We’ll meet at the Lou Anne’s hom
 e at 819 Vía Formia at 1:00 pm on Monday\, February 9 to discuss. Meeting
 s are kept to an hour and we always welcome new readers\, including men. E
 ven if you don’t have a chance to read the book\, but want to join in th
 e fun\, feel free to attend.\n\nSign up by replying to this email or calli
 ng Lou Anne at 231-645-3643.\n\nHappy reading!\n\n&nbsp\;
ATTACH;FMTTYPE=image/jpeg:https://pgislanders.org/wp-content/uploads/2026/
 01/Theo-of-Golden.png
CATEGORIES:Social
END:VEVENT
BEGIN:VTIMEZONE
TZID:America/New_York
X-LIC-LOCATION:America/New_York
BEGIN:STANDARD
DTSTART:20251102T010000
TZOFFSETFROM:-0400
TZOFFSETTO:-0500
TZNAME:EST
END:STANDARD
END:VTIMEZONE
END:VCALENDAR