BEGIN:VCALENDAR
VERSION:2.0
PRODID:-//wp-events-plugin.com//7.2.3.1//EN
TZID:America/New_York
X-WR-TIMEZONE:America/New_York
BEGIN:VEVENT
UID:208@pgislanders.org
DTSTART;TZID=America/New_York:20260105T140000
DTEND;TZID=America/New_York:20260105T160000
DTSTAMP:20251210T175351Z
URL:https://pgislanders.org/events/pgislanders-book-group-18/
SUMMARY:PGIslanders Book Group
DESCRIPTION:Social Event\n\nPGIslanders Book Group\nSalt to the Sea\nMonday
 \, January 5\, 2026\nJanuary’s book group read is Salt to the Sea by Rut
 a Sepetys. Here’s a description:\n\n\n\n&nbsp\;\n\nAvailable in Kindle f
 ormat\, audiobook\, and paperback\, you can purchase the book on Amazon or
  at these locations. Charlotte County Library’s copies are currently che
 cked out or on hold.\n\nThere’s a change of venue for this month’s gro
 up meeting. We’ll meet at the Luanna Fisketjon’s home at 328 Caicos Dr
 ive at 1:00 pm on Monday\, January 5 to discuss. Meetings are kept to an h
 our and we always welcome new readers\, including men. Even if you don’t
  have a chance to read the book\, but want to join in the fun\, feel free 
 to attend.\n\nLuanna Fisketjon is this month’s host. Sign up by contacti
 ng Luanna.\n\nHappy reading!
ATTACH;FMTTYPE=image/jpeg:https://pgislanders.org/wp-content/uploads/2025/
 12/Salt-to-the-Sea.jpg
CATEGORIES:Social
END:VEVENT
BEGIN:VTIMEZONE
TZID:America/New_York
X-LIC-LOCATION:America/New_York
BEGIN:STANDARD
DTSTART:20251102T010000
TZOFFSETFROM:-0400
TZOFFSETTO:-0500
TZNAME:EST
END:STANDARD
END:VTIMEZONE
END:VCALENDAR