BEGIN:VCALENDAR
VERSION:2.0
PRODID:-//wp-events-plugin.com//7.2.3.1//EN
TZID:America/New_York
X-WR-TIMEZONE:America/New_York
BEGIN:VEVENT
UID:207@pgislanders.org
DTSTART;TZID=America/New_York:20251220T180000
DTEND;TZID=America/New_York:20251220T193000
DTSTAMP:20251128T220607Z
URL:https://pgislanders.org/events/pgi-christmas-boat-parade-viewing/
SUMMARY:PGI Christmas Boat Parade Viewing
DESCRIPTION:Details restricted to logged in PGIslanders members. When logge
 d in see Member-only Events under the main Events menu.
ATTACH;FMTTYPE=image/jpeg:https://pgislanders.org/wp-content/uploads/2024/
 12/2021-Boat-Parade.jpg
CATEGORIES:Social
END:VEVENT
BEGIN:VTIMEZONE
TZID:America/New_York
X-LIC-LOCATION:America/New_York
BEGIN:STANDARD
DTSTART:20251102T010000
TZOFFSETFROM:-0400
TZOFFSETTO:-0500
TZNAME:EST
END:STANDARD
END:VTIMEZONE
END:VCALENDAR