BEGIN:VCALENDAR
VERSION:2.0
PRODID:-//wp-events-plugin.com//7.2.3.1//EN
TZID:America/New_York
X-WR-TIMEZONE:America/New_York
BEGIN:VEVENT
UID:187@pgislanders.org
DTSTART;TZID=America/New_York:20251107T080000
DTEND;TZID=America/New_York:20251109T170000
DTSTAMP:20251030T215848Z
URL:https://pgislanders.org/events/pelican-bay-cruise/
SUMMARY:Pelican Bay Cruise
DESCRIPTION:Pelican Bay Cruise\nNovember 7-9\, 2025\nNice\, easy cruising s
 pot to welcome everyone back for the season.\n\nMore details to come.\n\nM
 aureen and Michael Hebert\n\nCruise Leaders
ATTACH;FMTTYPE=image/jpeg:https://pgislanders.org/wp-content/uploads/2023/
 09/Pelican-Bay.png
CATEGORIES:Cruise
END:VEVENT
BEGIN:VTIMEZONE
TZID:America/New_York
X-LIC-LOCATION:America/New_York
BEGIN:STANDARD
DTSTART:20251102T010000
TZOFFSETFROM:-0400
TZOFFSETTO:-0500
TZNAME:EST
END:STANDARD
END:VTIMEZONE
END:VCALENDAR