BEGIN:VCALENDAR
VERSION:2.0
PRODID:-//wp-events-plugin.com//7.2.3.1//EN
TZID:America/New_York
X-WR-TIMEZONE:America/New_York
BEGIN:VEVENT
UID:188@pgislanders.org
DTSTART;TZID=America/New_York:20251010T080000
DTEND;TZID=America/New_York:20251012T170000
DTSTAMP:20251001T014929Z
URL:https://pgislanders.org/events/pelican-bay-cruise-2/
SUMMARY:Pelican Bay Cruise
DESCRIPTION:Pop-Up Cruise\nPelican Bay\nOctober 10-12\, 2025\nSpur of the m
 oment cruise to Pelican Bay. More details (including final decision to go 
 or not go) following General Meeting on October 2.\n\nMark Snyder\n\nCruis
 e Leader
ATTACH;FMTTYPE=image/jpeg:https://pgislanders.org/wp-content/uploads/2023/
 09/Pelican-Bay.png
CATEGORIES:Cruise
END:VEVENT
BEGIN:VTIMEZONE
TZID:America/New_York
X-LIC-LOCATION:America/New_York
BEGIN:DAYLIGHT
DTSTART:20250309T030000
TZOFFSETFROM:-0500
TZOFFSETTO:-0400
TZNAME:EDT
END:DAYLIGHT
END:VTIMEZONE
END:VCALENDAR