BEGIN:VCALENDAR
VERSION:2.0
PRODID:-//wp-events-plugin.com//7.2.3.1//EN
TZID:America/New_York
X-WR-TIMEZONE:America/New_York
BEGIN:VEVENT
UID:193@pgislanders.org
DTSTART;TZID=America/New_York:20260125T000000
DTEND;TZID=America/New_York:20260125T000000
DTSTAMP:20260108T213920Z
URL:https://pgislanders.org/events/lunch-cruise-to-charlotte-harbor-yacht-
 club/
SUMMARY:Lunch Cruise to Charlotte Harbor Yacht Club
DESCRIPTION:Lunch Cruise to Charlotte Harbor Yacht Club\nSunday\, January 2
 5\, 2026\n11:30 am\n&nbsp\;\n\nJoin us for lunch on the other side of the 
 harbor at the beautiful Charlotte Harbor Yacht Club at 11:30 am on Sunday\
 , January 25.\n\nWith a beautiful view of Charlotte Harbor from a vantage 
 we don’t usually have\, we’ll dine of the Yacht Club’s lunch menu a 
 la carte. You can pay by cash or with credit card\, but card payments incl
 ude a processing fee.\n\nIf coming by boat\, be advised their basin cannot
  accommodate sailboats or other deep draft vessels due to depth concerns. 
 Those vessels can anchor off to the side of the channel entrance and tende
 r in. PGIslanders with powerboats could be used to ferry those that don’
 t have or can’t use their dinghies. Just let us know. PGIslanders are we
 lcome to come by car\, too. Whether coming by boat or car\, plan to arrive
  and be ashore by 11:30 am.\n\nPlease make your reservation through Club E
 xpress and the PGICA website here. You must login to access the page. Regi
 stration deadline is Tuesday\, January 20 at 12:00 pm.\n\n&nbsp\;\n\nMark 
 Janus\n\nCruise Leader
ATTACH;FMTTYPE=image/jpeg:https://pgislanders.org/wp-content/uploads/2025/
 11/Charlotte-harbor-Yacht-Club.jpg
CATEGORIES:Cruise
END:VEVENT
BEGIN:VTIMEZONE
TZID:America/New_York
X-LIC-LOCATION:America/New_York
BEGIN:STANDARD
DTSTART:20251102T010000
TZOFFSETFROM:-0400
TZOFFSETTO:-0500
TZNAME:EST
END:STANDARD
END:VTIMEZONE
END:VCALENDAR