BEGIN:VCALENDAR
VERSION:2.0
PRODID:-//wp-events-plugin.com//7.2.3.1//EN
TZID:America/New_York
X-WR-TIMEZONE:America/New_York
BEGIN:VEVENT
UID:192@pgislanders.org
DTSTART;TZID=America/New_York:20260111T000000
DTEND;TZID=America/New_York:20260111T000000
DTSTAMP:20260106T180341Z
URL:https://pgislanders.org/events/lunch-cruise-to-cass-key/
SUMMARY:Lunch Cruise to Cass Key
DESCRIPTION:Cruise to \nLunch at Cass Cay Restaurant\nat\nBurnt Store Marin
 a\nSunday\, January 11\, 2026\nPlease join us for lunch at Cass Cay Restau
 rant &amp\; Bar\, located at beautiful Burnt Store Marina\, this Sunday\, 
 January 11.\n\nOpen to the public and specializing in steak and seafood\, 
 at Cass Cay you'll be treated to an extraordinary waterfront dining experi
 ence. Enjoy the great lunch menu along with a full bar and a waterfront vi
 ew from every table in the restaurant.\n\nPlan to arrive in time for lunch
  at 12:00 pm. Come by boat or car. Docking is free for restaurant patrons.
 \n\nWe have six boats signed up already\, and others coming by car. To sig
 n up\, please reply to this email or contact Cruise Captains Jim and Conni
 e at jimmerritt51@gmail.com or (941) 276-1553. Please let us know if you a
 re coming by boat or car. If by boat\, please include the name\, type of b
 oat\, and length.\n\nHope you can join us!\n\nJim &amp\; Connie Merritt\n\
 nCruise Captains\n\n&nbsp\;
ATTACH;FMTTYPE=image/jpeg:https://pgislanders.org/wp-content/uploads/2023/
 10/cass-cay-1-600x430-1.jpg
CATEGORIES:Cruise
END:VEVENT
BEGIN:VTIMEZONE
TZID:America/New_York
X-LIC-LOCATION:America/New_York
BEGIN:STANDARD
DTSTART:20251102T010000
TZOFFSETFROM:-0400
TZOFFSETTO:-0500
TZNAME:EST
END:STANDARD
END:VTIMEZONE
END:VCALENDAR