BEGIN:VCALENDAR
VERSION:2.0
PRODID:-//wp-events-plugin.com//7.2.3.1//EN
TZID:America/New_York
X-WR-TIMEZONE:America/New_York
BEGIN:VEVENT
UID:108@pgislanders.org
DTSTART;TZID=America/New_York;VALUE=DATE:20251026
DTEND;TZID=America/New_York;VALUE=DATE:20251027
DTSTAMP:20250929T140956Z
URL:https://pgislanders.org/events/lunch-at-tarpon-lodge-restaurant-2/
SUMMARY:Brunch Cruise to Burnt Store Marina
DESCRIPTION:Brunch Cruise to Burnt Store Marina\n\nSunday\, October 26\, 20
 25\n&nbsp\;\n\nPlease join us for Sunday Brunch at Cass Cay Restaurant &am
 p\; Bar\, located at beautiful Burnt Store Marina\, on Sunday\, October 26
 \, 2025.\n\nPlan to arrive in time for brunch at 10:30 am. Come by boat or
  car. Docking is free for restaurant patrons.\n\nTo sign up\, please conta
 ct Cruise Captains Kevin &amp\; Nan at leeway@pgisles.com or (941) 662-784
 2. Let us know if you’re coming by car or boat and how many people. If a
 rriving by boat\, please include the type and size.\n\nHope you can join u
 s!\n\nKevin &amp\; Nan Lee\n\nCruise Captains\n\n&nbsp\;
ATTACH;FMTTYPE=image/jpeg:https://pgislanders.org/wp-content/uploads/2023/
 10/bsm-aerial-960.jpg
CATEGORIES:Cruise
END:VEVENT
BEGIN:VTIMEZONE
TZID:America/New_York
X-LIC-LOCATION:America/New_York
BEGIN:DAYLIGHT
DTSTART:20250309T030000
TZOFFSETFROM:-0500
TZOFFSETTO:-0400
TZNAME:EDT
END:DAYLIGHT
END:VTIMEZONE
END:VCALENDAR