BEGIN:VCALENDAR
VERSION:2.0
PRODID:-//wp-events-plugin.com//7.2.3.1//EN
TZID:America/New_York
X-WR-TIMEZONE:America/New_York
BEGIN:VEVENT
UID:184@pgislanders.org
DTSTART:20251005T160000Z
DTEND:20251005T180000Z
DTSTAMP:20250925T000911Z
URL:https://pgislanders.org/events/lunch-at-riviera-bar-and-grill-5/
SUMMARY:Lunch at Riviera Bar and Grill
DESCRIPTION:Cruise to \nLunch at Riviera Bar and Grill\nSunday\, October 5\
 , 2025\nCome by land or sea!\nPlease join us for lunch at Riviera Bar and 
 Grill on October 5 at 12:00 pm. Eat indoor or out\, as Riviera has an indo
 or dining room and an outdoor Tiki Bar with tables. We’ll be ordering of
 f Riviera’s regular menu.\n\nThis is a great cruise for small boats. Enj
 oy a scenic ride up Alligator Creek\, especially convenient for those taki
 ng Buckley’s Pass. The restaurant is located on your port side as you tr
 avel up Alligator Creek\, just before Marker #28. Riviera Bar and Grill ha
 s added additional dockage\, so there should be plenty of room. Even so\, 
 bring fenders in case we need to raft up with other members.\n\nTo sign up
 \, please contact Dave by email. Let us know if you’re coming by boat an
 d include size of boat and whether you can take passengers. For those that
  want to attend but don’t want or can’t bring their boat\, we should h
 ave attendees happy to take passengers on their boats. Members are welcome
  to join us by car\, too.\n\nSee you there\,\n\nDave Porter\nCruise Captai
 n\n217-553-5305\nDporter5001@gmail.com\n\n&nbsp\;
ATTACH;FMTTYPE=image/jpeg:https://pgislanders.org/wp-content/uploads/2023/
 11/Riviera.png
CATEGORIES:Cruise,Social
END:VEVENT
END:VCALENDAR