BEGIN:VCALENDAR
VERSION:2.0
PRODID:-//wp-events-plugin.com//7.2.3.1//EN
TZID:America/New_York
X-WR-TIMEZONE:America/New_York
BEGIN:VEVENT
UID:182@pgislanders.org
DTSTART;TZID=America/New_York:20250904T183000
DTEND;TZID=America/New_York:20250904T210000
DTSTAMP:20250902T155257Z
URL:https://pgislanders.org/events/general-meeting-september-4-2025/
SUMMARY:General Meeting - September 4\, 2025
DESCRIPTION:PGIslanders Monthly Member Meeting\nThursday\, September 4\, 20
 25\nJoin us 6:30 PM for Pizza\, followed by\nthe Meeting and Education Seg
 ment\n&nbsp\;\n\nOn Thursday\, September 4\, we’ll hold our Monthly Memb
 er Meeting\, where we’ll be reviewing upcoming cruises and social events
 \, followed by our Education Segment.\n\nAs part of our September meeting\
 , we’ll be serving pizza. Please bring your own beverages. If you’ll b
 e at the meeting\, please help us with ordering enough pizza letting us kn
 ow how many are coming. If you wish to enjoy the pizza\, it’s very impor
 tant you RSVP by Tuesday\, September 2.\n\nOur 50/50 raffle will be held\,
  so please bring cash (small bills) to participate in this fun\, and poten
 tially rewarding\, activity.\n\n&nbsp\;\nEducation Segment\nAbout My Socia
 l Media Presence\nBy our very own Robin Herrick\nOur speaker this month is
  fellow PGIslander\, Robin Herrick\, our Club’s Membership Director.\n\n
 In a previous meeting\, Robin shared some of her videos from her social me
 dia channels about her and Christian’s journey with owning and maintaini
 ng their 38’ Lagoon sailing catamaran\, Reboot. Recently\, Robin and Chr
 istian parted ways with Reboot (and sailing)\, coming over to the dark sid
 e of powerboating. They’ve recently acquired an Aquila 36 Sport Power Ca
 tamaran. Robin’s new social media channels\, Sea You Out There\, will co
 ntinue with videos about owning and maintaining her boat.\n\nSee you Thurs
 day!
ATTACH;FMTTYPE=image/jpeg:https://pgislanders.org/wp-content/uploads/2024/
 08/Meeting-Graphic.jpg
CATEGORIES:Meeting
END:VEVENT
BEGIN:VTIMEZONE
TZID:America/New_York
X-LIC-LOCATION:America/New_York
BEGIN:DAYLIGHT
DTSTART:20250309T030000
TZOFFSETFROM:-0500
TZOFFSETTO:-0400
TZNAME:EDT
END:DAYLIGHT
END:VTIMEZONE
END:VCALENDAR