BEGIN:VCALENDAR
VERSION:2.0
PRODID:-//wp-events-plugin.com//7.2.3.1//EN
TZID:America/New_York
X-WR-TIMEZONE:America/New_York
BEGIN:VEVENT
UID:181@pgislanders.org
DTSTART;TZID=America/New_York:20251002T183000
DTEND;TZID=America/New_York:20251002T210000
DTSTAMP:20250806T195348Z
URL:https://pgislanders.org/events/general-meeting-october2-2025/
SUMMARY:General Meeting - October 2\, 2025
DESCRIPTION:PGIslanders Monthly Member Meeting\nThursday\, October 2\, 2025
 \nJoin us 6:30 PM for Pizza\, followed by\nthe Meeting and Education Segme
 nt\n&nbsp\;\n\nOn Thursday\, October 2\, we’ll hold our Monthly Member M
 eeting\, where we’ll be reviewing upcoming cruises and social events\, f
 ollowed by our Education Segment.\n\nAs part of our October meeting\, we
 ’ll be serving pizza. Please bring your own beverages. If you’ll be at
  the meeting\, please help us with ordering enough pizza letting us know h
 ow many are coming. If you wish to enjoy the pizza\, it’s very important
  you RSVP by Tuesday\, September 30.\n\nOur 50/50 raffle will be held\, so
  please bring cash (small bills) to participate in this fun\, and potentia
 lly rewarding\, activity.\n\n&nbsp\;\nEducation Segment\nScams -- How to R
 ecognize and Avoid Them\n \nJustin Davoult\n Punta Gorda Police Departme
 nt\nLieutenant\, Community Services\n \n\nJustin began his career with th
 e Punta Gorda Police Department in 2009 and was assigned to road patrol.\n
 \nIn 2015 he moved to the Criminal Investigations Section.\n\nMore recentl
 y he was promoted to Lieutenant and was assigned as the Community Services
  Lieutenant.\n\nAs the Community Services Lieutenant\, Justin supervises t
 he School Resource Officers\, is a department Public Information Officer\,
  manages the community events throughout the year\, and is the Executive D
 irector of the Do the Right Thing of Charlotte County.\n\nThis should be a
 n interesting and informational segment.\n\nSee you Thursday!
ATTACH;FMTTYPE=image/jpeg:https://pgislanders.org/wp-content/uploads/2024/
 08/Meeting-Graphic.jpg
CATEGORIES:Meeting
END:VEVENT
BEGIN:VTIMEZONE
TZID:America/New_York
X-LIC-LOCATION:America/New_York
BEGIN:DAYLIGHT
DTSTART:20250309T030000
TZOFFSETFROM:-0500
TZOFFSETTO:-0400
TZNAME:EDT
END:DAYLIGHT
END:VTIMEZONE
END:VCALENDAR