BEGIN:VCALENDAR
VERSION:2.0
PRODID:-//wp-events-plugin.com//7.2.3.1//EN
TZID:America/New_York
X-WR-TIMEZONE:America/New_York
BEGIN:VEVENT
UID:190@pgislanders.org
DTSTART;TZID=America/New_York:20251106T183000
DTEND;TZID=America/New_York:20251106T210000
DTSTAMP:20251009T020829Z
URL:https://pgislanders.org/events/general-meeting-november-6-2025/
SUMMARY:General Meeting - November 6\, 2025
DESCRIPTION:PGIslanders Monthly Member Meeting\nThursday\, November 6\, 202
 5\nJoin us 6:30 PM for Pizza\, followed by\nthe Meeting and Education Segm
 ent\n&nbsp\;\n\nOn Thursday\, November 6\, we’ll hold our Monthly Member
  Meeting\, where we’ll be reviewing upcoming cruises and social events\,
  followed by our Education Segment.\n\nAs part of our October meeting\, we
 ’ll be serving pizza. Please bring your own beverages. If you’ll be at
  the meeting\, please help us with ordering enough pizza letting us know h
 ow many are coming. If you wish to enjoy the pizza\, it’s very important
  you RSVP by Tuesday\, November 4.\n\nOur 50/50 raffle will be held\, so p
 lease bring cash (small bills) to participate in this fun\, and potentiall
 y rewarding\, activity.\n\n&nbsp\;\nEducation Segment\nPunta Gorda Marine 
 Patrol\nEric A. Lee\nPolice Officer\, Marine Enforcement Unit\nPunta Gorda
  Police Department\n&nbsp\;\n\n \n\nOfficer Lee started his law enforceme
 nt career with the United States Border Patrol in July of 1996\, assigned 
 to the Brownfield Station in San Diego\, California.\n\nIn 2002\, he trans
 ferred to the Campo Station where he was promoted to the position of Super
 visory Border Patrol Agent.\n\nIn 2010\, he transferred to the Detroit Bor
 der Patrol Station where he was promoted to the position of Watch Commande
 r.\n\nIn 2016\, he transferred to the Nogales Border Patrol Station in Ari
 zona\, eventually retiring from the Border Patrol in 2019.\n\nIn 2024\, he
  joined the City of Punta Gorda Police Department and was recently assigne
 d to the Marine Enforcement Unit.\n\n&nbsp\;\n\nThis should be an interest
 ing and informational segment.\n\nSee you Thursday!
ATTACH;FMTTYPE=image/jpeg:https://pgislanders.org/wp-content/uploads/2024/
 08/Meeting-Graphic.jpg
CATEGORIES:Meeting
END:VEVENT
BEGIN:VTIMEZONE
TZID:America/New_York
X-LIC-LOCATION:America/New_York
BEGIN:STANDARD
DTSTART:20251102T010000
TZOFFSETFROM:-0400
TZOFFSETTO:-0500
TZNAME:EST
END:STANDARD
END:VTIMEZONE
END:VCALENDAR