BEGIN:VCALENDAR
VERSION:2.0
PRODID:-//wp-events-plugin.com//7.2.3.1//EN
TZID:America/New_York
X-WR-TIMEZONE:America/New_York
BEGIN:VEVENT
UID:211@pgislanders.org
DTSTART;TZID=America/New_York:20260205T183000
DTEND;TZID=America/New_York:20260205T210000
DTSTAMP:20260130T035846Z
URL:https://pgislanders.org/events/general-meeting-february-5-2026/
SUMMARY:General Meeting - February 5\, 2026
DESCRIPTION:PGIslanders Monthly Member Meeting\nThursday\, February 5\, 202
 6\nJoin us 6:30 PM for Pizza\, followed by\nthe Meeting and Education Segm
 ent\n&nbsp\;\n\nAt February’s member meeting\, we’ll be presenting the
  list of candidates for the next watch that begins in March. Members will 
 vote to approve this slate at the February member meeting.\n\nAs part of o
 ur February meeting\, we’ll be serving pizza. Please bring your own beve
 rages. If you’ll be at the meeting\, please help us with ordering enough
  pizza letting us know how many are coming. If you wish to enjoy the pizza
 \, it’s very important you RSVP by Tuesday\, February 3.\n\nOur 50/50 ra
 ffle will be held\, so please bring cash (small bills) to participate in t
 his fun\, and potentially rewarding\, activity.\nEducation Segment\n\nJeff
 ery Slinger\, Petty Officer 3rd Class Boatswain Mate\, USCG Fort Myers\n&n
 bsp\;\n\nBorn and raised in Florida\, Petty Officer Slinger lives in Cape 
 Coral with his wife and two children. He’s been in the USCG nearly six y
 ears and has served on a 270-foot cutter out of Kittery\, Maine. Jeff is a
 n avid fisherman.\n\nTopics he will cover:\n\nFlares: pyrotechnic vs. elec
 tronic\n\nSearch and rescue: the search for the two males that were never 
 found but their boat was off the SW coast of Ft Myers\n\nNavigation on All
 igator Creek: who has jurisdiction for infringment?
ATTACH;FMTTYPE=image/jpeg:https://pgislanders.org/wp-content/uploads/2024/
 08/Meeting-Graphic.jpg
CATEGORIES:Meeting
END:VEVENT
BEGIN:VTIMEZONE
TZID:America/New_York
X-LIC-LOCATION:America/New_York
BEGIN:STANDARD
DTSTART:20251102T010000
TZOFFSETFROM:-0400
TZOFFSETTO:-0500
TZNAME:EST
END:STANDARD
END:VTIMEZONE
END:VCALENDAR