BEGIN:VCALENDAR
VERSION:2.0
PRODID:-//wp-events-plugin.com//7.2.3.1//EN
TZID:America/New_York
X-WR-TIMEZONE:America/New_York
BEGIN:VEVENT
UID:196@pgislanders.org
DTSTART;TZID=America/New_York:20251204T183000
DTEND;TZID=America/New_York:20251204T210000
DTSTAMP:20251110T221524Z
URL:https://pgislanders.org/events/general-meeting-december-4-2025/
SUMMARY:General Meeting - December 4\, 2025
DESCRIPTION:PGIslanders Monthly Member Meeting\nThursday\, December 4\, 202
 5\nJoin us 6:30 PM for Pizza\, followed by\nthe Meeting and Education Segm
 ent\n&nbsp\;\n\nOn Thursday\, December 4\, we’ll hold our Monthly Member
  Meeting\, where we’ll begin with our Education Segment\, followed by th
 e monthly review of upcoming cruises\, social events\, and other club matt
 ers.\n\nA special vote will be taken on the question of amending our Bylaw
 s to allow PGICA members without boats to join the PGIslanders. You must b
 e present to vote.\n\nAs part of our December meeting\, we’ll be serving
  pizza. Please bring your own beverages. If you’ll be at the meeting\, p
 lease help us with ordering enough pizza letting us know how many are comi
 ng. If you wish to enjoy the pizza\, it’s very important you RSVP by Tue
 sday\, December 2.\n\nOur 50/50 raffle will be held\, so please bring cash
  (small bills) to participate in this fun\, and potentially rewarding\, ac
 tivity.\n\n&nbsp\;\nEducation Segment\n Active Shooter Awareness\nJustin 
 Davoult\n Punta Gorda Police Department\nLieutenant\, Community Services\
 n&nbsp\;\n\n&nbsp\;\n\nThis is an active shooter presentation designed to 
 prepare citizens if they happen to be in an active shooter situation.  It
  contains key factors to keep in mind and some actions to take along with 
 what to expect from responding officers. \n\n&nbsp\;\n\nJustin is returni
 ng by popular demand following his presentation in October about avoiding 
 various types of scams. Here is a repeat of his bio.\n\nJustin began his c
 areer with the Punta Gorda Police Department in 2009 and was assigned to r
 oad patrol.\n\nIn 2015 he moved to the Criminal Investigations Section.\n\
 nMore recently he was promoted to Lieutenant and was assigned as the Commu
 nity Services Lieutenant.\n\nAs the Community Services Lieutenant\, Justin
  supervises the School Resource Officers\, is a department Public Informat
 ion Officer\, manages the community events throughout the year\, and is th
 e Executive Director of the Do the Right Thing of Charlotte County.\n\nThi
 s should be an interesting and informational segment.\n\nSee you Thursday!
ATTACH;FMTTYPE=image/jpeg:https://pgislanders.org/wp-content/uploads/2024/
 08/Meeting-Graphic.jpg
CATEGORIES:Meeting
END:VEVENT
BEGIN:VTIMEZONE
TZID:America/New_York
X-LIC-LOCATION:America/New_York
BEGIN:STANDARD
DTSTART:20251102T010000
TZOFFSETFROM:-0400
TZOFFSETTO:-0500
TZNAME:EST
END:STANDARD
END:VTIMEZONE
END:VCALENDAR