BEGIN:VCALENDAR
VERSION:2.0
PRODID:-//wp-events-plugin.com//7.2.3.1//EN
TZID:America/New_York
X-WR-TIMEZONE:America/New_York
BEGIN:VEVENT
UID:171@pgislanders.org
DTSTART;TZID=America/New_York:20251120T173000
DTEND;TZID=America/New_York:20251120T203000
DTSTAMP:20250930T232035Z
URL:https://pgislanders.org/events/friendsgiving-3/
SUMMARY:Friendsgiving
DESCRIPTION:Social Event\n&nbsp\;\nFriendsgiving\nThursday\, November 20\, 
 2025\nOn Thursday\, November 20\, we’ll celebrate a longstanding PGIslan
 ders tradition – Friendsgiving! Reconnect with the friends you already k
 now and meet new friends – the Mariners will be celebrating with us!\n\n
 This year\, the celebration is at St. Andrews South Golf Club from 5:30 pm
  until 8:30 pm. Start with cocktails (cash bar) and conversation\, followe
 d by dinner at 6:15 pm. The delicious buffet dinner includes turkey with y
 our favorite trimmings – stuffing\, mashed potatoes\, sweet potatoes\, m
 ixed vegetables\, corn casserole\, and cranberry sauce – and pumpkin and
  apple pie for dessert.\n\nCost is only $33.00 per person\, and includes t
 he buffet\, dessert\, tax\, and gratuity. Drinks\, other than water\, are 
 not included\, and may be purchased by cash from the bar.\n\nSpace is limi
 ted – don’t miss out. Reservations and payment can be made through Clu
 b Express and the PGICA website here. You must login to access the page. R
 egistration deadline is Monday\, November 3\, 2025.\n\nHope we’ll see yo
 u there!\n\nMaureen Hebert  (781) 837-8952\n\nJeannette Gray (941) 380-66
 84\n\nFriendsgiving Committee\n\n&nbsp\;\n\n&nbsp\;
ATTACH;FMTTYPE=image/jpeg:https://pgislanders.org/wp-content/uploads/2025/
 04/Friendsgiving-2025.jpg
CATEGORIES:Social
END:VEVENT
BEGIN:VTIMEZONE
TZID:America/New_York
X-LIC-LOCATION:America/New_York
BEGIN:STANDARD
DTSTART:20251102T010000
TZOFFSETFROM:-0400
TZOFFSETTO:-0500
TZNAME:EST
END:STANDARD
END:VTIMEZONE
END:VCALENDAR