BEGIN:VCALENDAR
VERSION:2.0
PRODID:-//wp-events-plugin.com//7.2.3.1//EN
TZID:America/New_York
X-WR-TIMEZONE:America/New_York
BEGIN:VEVENT
UID:186@pgislanders.org
DTSTART;TZID=America/New_York:20251029T080000
DTEND;TZID=America/New_York:20251102T170000
DTSTAMP:20250926T033326Z
URL:https://pgislanders.org/events/fort-lauderdale-international-boat-show
 /
SUMMARY:Fort Lauderdale International Boat Show
DESCRIPTION:Fort Lauderdale International Boat Show\nOctober 29\, 2025 to N
 ovember 2\, 2025\nNot officially a PGIslanders event\, but several members
  are planning a trip to the FLIBS. Possible carpool\, overnight stay\, etc
 .\n\nMark Snyder\n\nCoordinator
ATTACH;FMTTYPE=image/jpeg:https://pgislanders.org/wp-content/uploads/2025/
 09/FLIBS.jpg
CATEGORIES:Social
END:VEVENT
BEGIN:VTIMEZONE
TZID:America/New_York
X-LIC-LOCATION:America/New_York
BEGIN:DAYLIGHT
DTSTART:20250309T030000
TZOFFSETFROM:-0500
TZOFFSETTO:-0400
TZNAME:EDT
END:DAYLIGHT
BEGIN:STANDARD
DTSTART:20251102T010000
TZOFFSETFROM:-0400
TZOFFSETTO:-0500
TZNAME:EST
END:STANDARD
END:VTIMEZONE
END:VCALENDAR