BEGIN:VCALENDAR
VERSION:2.0
PRODID:-//wp-events-plugin.com//7.2.3.1//EN
TZID:America/New_York
X-WR-TIMEZONE:America/New_York
BEGIN:VEVENT
UID:178@pgislanders.org
DTSTART;TZID=America/New_York:20250704T120000
DTEND;TZID=America/New_York:20250704T220000
DTSTAMP:20250702T054816Z
URL:https://pgislanders.org/events/fireworks-raftup/
SUMMARY:Fireworks Raftup
DESCRIPTION:Cruise to \nCharlotte Harbor Fireworks Raft-Up\nFriday\, July 4
 \, 2025\nCruise Captain Mark Snyder has planned a raft-up for Friday night
 ’s fireworks display over Charlotte Harbor. The forecast has been changi
 ng rapidly\, but suggests cooler temperatures might arrive for Independenc
 e Day. If the weather stays north\, the mercury doesn’t rise too high\, 
 and the fireworks don’t get rained out\, a PGIslanders raft-up in Charlo
 tte Harbor is the perfect way to enjoy the display. If habits hold true\, 
 Mark will have a cooler of drinks and some snacks aboard Wanderlust. Pleas
 e feel free to bring your own beverages and any snacks you would like to s
 hare.\n\nWanderlust will serve as anchor boat\, and plans to stay there ov
 ernight\, wandering back home Saturday morning. Please bring lines and fen
 ders suitable for rafting with other vessels.\n\nWeather Forecast:\n\n 	Ch
 anging daily\, so all plans are weather dependent. Current information:\n\
 nIndependence Day\n\nShowers likely and possibly a thunderstorm before 2pm
 \, then showers and thunderstorms likely after 2pm. Partly sunny\, with a 
 high near 86°. Southwest wind 6 to 9 mph. Chance of precipitation 70%.\n\
 nFriday Night\n\nShowers and thunderstorms likely before 8pm\, then shower
 s likely and possibly a thunderstorm between 8pm and 2am\, then a chance o
 f showers after 2am. Mostly cloudy\, with a low around 74°. Chance of pre
 cipitation 60%.\n\nSaturday\n\nShowers and thunderstorms likely. Partly su
 nny\, with a high near 87°. Chance of precipitation 70%.\n\n 	Sunrise Fri
 day 6:39am and Sunset Friday 8:26pm\n 	Moonrise Friday 1:49am and Moonset 
 Friday 3:16pm (should be a dark night for fireworks!)\n\nTides:\n\n 	Frida
 y\, Low 2:41am (+0.79)\, High 10:47am (+1.9)\, Low 6:47pm (+0.3)\n\n\n 	Sa
 turday\, High 11:26am (+2.03)\n\nDeparture:\n\n 	Wanderlust plans to be in
  position a few hours before dark Friday afternoon. When you arrive in the
  harbor\, locate Wanderlust on AIS or just head to the approximate spot in
 dicated below to find the big blue sailboat. Keep in mind it’s been repo
 rted the day marker on day beacon 3 is missing.\n\nCommunications:\n\n 	Ma
 rk Snyder will initiate a group text of participating skippers on Friday.
  Please include your cell number when you RSVP.\n 	Contributions to PGIsl
 anders Facebook welcomed. If you haven’t joined the private PGIslanders 
 Facebook group\, yet\, please email Kevin Lee or Luanna Fisketjon and requ
 est an invite.\n\nIf interested\, please contact Mark by replying to this 
 announcement\, emailing svwanderlust39@gmail.com\, or calling/texting Mark
  at (425) 985-0253.\n\nHope to see you there!\n\nMark Snyder\nCruise Capta
 in\n\nsvwanderlust39@gmail.com\n\n&nbsp\;\n\n&nbsp\;\n
ATTACH;FMTTYPE=image/jpeg:https://pgislanders.org/wp-content/uploads/2025/
 07/Fireworks_2025.png
CATEGORIES:Cruise,Social
END:VEVENT
BEGIN:VTIMEZONE
TZID:America/New_York
X-LIC-LOCATION:America/New_York
BEGIN:DAYLIGHT
DTSTART:20250309T030000
TZOFFSETFROM:-0500
TZOFFSETTO:-0400
TZNAME:EDT
END:DAYLIGHT
END:VTIMEZONE
END:VCALENDAR