BEGIN:VCALENDAR
VERSION:2.0
PRODID:-//wp-events-plugin.com//7.2.3.1//EN
TZID:America/New_York
X-WR-TIMEZONE:America/New_York
BEGIN:VEVENT
UID:206@pgislanders.org
DTSTART;TZID=America/New_York;VALUE=DATE:20251212
DTEND;TZID=America/New_York;VALUE=DATE:20251216
DTSTAMP:20251123T004705Z
URL:https://pgislanders.org/events/cruise-to-pink-shell-beach-resort-marin
 a-2/
SUMMARY:Cruise to Pink Shell Beach Resort & Marina
DESCRIPTION:Cruise to \nPink Shell Beach Resort &amp\; Marina\nFriday\, Dec
 ember 12 to Monday\, December 15\, 2025\n&nbsp\;\n\nJoin us for a PGIsland
 ers cruise to Pink Shell Beach Resort &amp\; Marina\, arriving Friday\, De
 cember 12 and departing Monday\, December 15.\n\nWhen staying at the marin
 a\, you’ll enjoy full resort access complete with multiple pools\, three
  restaurants\, complimentary full buffet breakfast\, and 1\,500 feet of su
 gar-white sand beach.\n\nThere are numerous other restaurants and attracti
 ons close by in Fort Myers Beach.\n\nPink Shell Marina\, located on the IC
 W side of the resort\, has new floating concrete docks with 30-amp and 50-
 amp electric service. We currently have several slips reserved for PGIslan
 ders. No resort fee.\n\nSign up by contacting Mark Snyder.\n\nMark Snyder\
 nCruise Captain\n\n&nbsp\;\n\n
ATTACH;FMTTYPE=image/jpeg:https://pgislanders.org/wp-content/uploads/2024/
 08/Pink-Shell-Logo.png
CATEGORIES:Cruise
END:VEVENT
BEGIN:VTIMEZONE
TZID:America/New_York
X-LIC-LOCATION:America/New_York
BEGIN:STANDARD
DTSTART:20251102T010000
TZOFFSETFROM:-0400
TZOFFSETTO:-0500
TZNAME:EST
END:STANDARD
END:VTIMEZONE
END:VCALENDAR