BEGIN:VCALENDAR
VERSION:2.0
PRODID:-//wp-events-plugin.com//7.2.3.1//EN
TZID:America/New_York
X-WR-TIMEZONE:America/New_York
BEGIN:VEVENT
UID:179@pgislanders.org
DTSTART;TZID=America/New_York;VALUE=DATE:20260114
DTEND;TZID=America/New_York;VALUE=DATE:20260116
DTSTAMP:20250721T154416Z
URL:https://pgislanders.org/events/cruise-to-pelican-bay-and-tween-waters-
 resort/
SUMMARY:Cruise to Pelican Bay and Tween Waters Resort
DESCRIPTION:Save the Date\nCruise to Pelican Bay and Tween Waters Resort\nW
 ednesday\, January 14\, 2026 to Sunday\, January 18\, 2026\n\nDestinations
 :\n\nPelican Bay arrive Wednesday\, January14\nPelican Bay depart Friday\,
  January 16\nTween Waters arrive Friday\, January 16\nTween Waters depart 
 Sunday\, January 18\n\n\n\nCruise Captain is Dave Porter.\n217-553-5305 ce
 ll\ndporter5001@gmail.com\n\n\nKathy Weber has agreed to host activities a
 t Pelican Bay.  Kathy is a wonderful host and this will be fun for all.\n
 \n\n8 Slips are reserved at Tween Waters.  Please contact Dave Porter dir
 ectly if you wish to have a slip reserved for you.  The fuel dock\, pump 
 out and fresh water are all operational.\n\n\nThe approach to Tween Waters
  at Markers 2 to 8 were substantially improved in March 2025.  New depths
  are minimum 8 feet at +1.9' high tide.  ICW Marker 38 to Marker 2 are 9'
  or greater.\n\n\nBuddy boats are available for this cruise.\n\n\nThe Capt
 iva Yacht Club is adjacent to Tween Waters Resort and may be the preferred
  destination yacht club for some of our members.  Group marina activities
  will be centered at Tween Waters and will include docktails\, and wine a
 nd chocolate competitive tastings.
ATTACH;FMTTYPE=image/jpeg:https://pgislanders.org/wp-content/uploads/2023/
 09/Tween-Waters.png
CATEGORIES:Cruise
END:VEVENT
BEGIN:VTIMEZONE
TZID:America/New_York
X-LIC-LOCATION:America/New_York
BEGIN:STANDARD
DTSTART:20251102T010000
TZOFFSETFROM:-0400
TZOFFSETTO:-0500
TZNAME:EST
END:STANDARD
END:VTIMEZONE
END:VCALENDAR