BEGIN:VCALENDAR
VERSION:2.0
PRODID:-//wp-events-plugin.com//7.2.3.1//EN
TZID:America/New_York
X-WR-TIMEZONE:America/New_York
BEGIN:VEVENT
UID:180@pgislanders.org
DTSTART;TZID=America/New_York;VALUE=DATE:20251014
DTEND;TZID=America/New_York;VALUE=DATE:20251025
DTSTAMP:20250729T185104Z
URL:https://pgislanders.org/events/cruise-north-2025/
SUMMARY:Cruise North 2025
DESCRIPTION:Save the Date\nPGIslanders Northbound Cruise Oct 14-24 2025\nOV
 ERVIEW\nOct__________Destination______________Night\n14 Tue _______Pelican
  Bay______________anchor\n15 Wed ______Venice____________________marina\n1
 6 Thu ______Longboat Key_____________anchor\n17 Fri _______Twin Dolphin ma
 rina______marina\n18 Sat ______Twin Dolphin marina______marina\n19 Sun ___
 ___St Pete____________________marina\n20 Mon _____St Pete_________________
 ___marina\n21 Tue _______Gulfport__________________anchor\n22 Wed _____Man
 atee__________________river anchor\n23 Thu ______Venice___________________
 _marina\n24 Fri _______PGI\nThe cruise should be thought of as hop on\, ho
 p off depending on people’s schedule and their travel preference. The cr
 uise can be thought of in two parts\, first part to Twin Dolphin marina an
 d then home again for some\, however\, for those select few\, discriminati
 ng cruisers they will be an optional add on extension to St Petersburg and
  Gulfport.\n\nPlease email Mark Tieszen if you are the least bit intereste
 d and if you have any questions.\n\ngalchut@aol.com\,\n\n701-866-3623\n\nI
 f you are interested in this cruise but these dates do not work for you pl
 ease let me know with suggested dates that you be better for you.\n\nA mor
 e detailed description of the itinerary is included in the attached file.\
 n\nCruise North 2025 Details
ATTACH;FMTTYPE=image/jpeg:https://pgislanders.org/wp-content/uploads/2025/
 07/Skyway-Bridge.jpg
CATEGORIES:Cruise
END:VEVENT
BEGIN:VTIMEZONE
TZID:America/New_York
X-LIC-LOCATION:America/New_York
BEGIN:DAYLIGHT
DTSTART:20250309T030000
TZOFFSETFROM:-0500
TZOFFSETTO:-0400
TZNAME:EDT
END:DAYLIGHT
END:VTIMEZONE
END:VCALENDAR