BEGIN:VCALENDAR
VERSION:2.0
PRODID:-//wp-events-plugin.com//7.2.3.1//EN
TZID:America/New_York
X-WR-TIMEZONE:America/New_York
BEGIN:VEVENT
UID:173@pgislanders.org
DTSTART;TZID=America/New_York:20250703T160000
DTEND;TZID=America/New_York:20250703T190000
DTSTAMP:20250529T194551Z
URL:https://pgislanders.org/events/annual-july-4th-party/
SUMMARY:Annual July 4th Party
DESCRIPTION:Social Event\nAnnual PGIslanders July Party\nat the PGICA\nThur
 sday\, July 3\, 2025\n\n&nbsp\;\nAll PGIslanders are invited to celebrate 
 the Birthday of our Nation at the PGICA (inside) at 4 pm on July 3rd.\n\n&
 nbsp\;\nClub members will be cooking hamburgers\, brats\, and hot dogs.  
 We will have ketchup\, mayo\, mustard\, cheese slices\, sliced onions\, to
 matoes and lettuce available for toppings.  Iced tea will be available. 
  Bring other drinks of your choice to go with it.\n\n&nbsp\;\nThere will b
 e no charge for the food.  However\, Club members should come with a side
  dish that will feed about 8 people\nto go with this menu (e.g.\, baked be
 ans\, salads (potato\, coleslaw\, pasta)  or a dessert of your choice.  
 Also\, club members are needed for set up and clean up.\n\n&nbsp\;\nSign-u
 ps will be at the June meeting on Thursday\, June 5.  If you cannot make 
 this meeting\, please RSVP by email and what you are bringing to Joanne &a
 mp\; Richard Collins\, email eagleswingsj@yahoo.com ASAP\, June 30th at th
 e latest.  RSVPs are required because we need to know how much food to pu
 rchase.\n\n&nbsp\;\nThis will be a fun time to celebrate with your PGIslan
 der friends.  Hope to see you there!
ATTACH;FMTTYPE=image/jpeg:https://pgislanders.org/wp-content/uploads/2025/
 05/4th-of-July.jpg
CATEGORIES:Social
END:VEVENT
BEGIN:VTIMEZONE
TZID:America/New_York
X-LIC-LOCATION:America/New_York
BEGIN:DAYLIGHT
DTSTART:20250309T030000
TZOFFSETFROM:-0500
TZOFFSETTO:-0400
TZNAME:EDT
END:DAYLIGHT
END:VTIMEZONE
END:VCALENDAR